BEGIN:VCALENDAR
VERSION:2.0
PRODID:-//pretix//Alsterfilm_Ticketshop//
BEGIN:VTIMEZONE
TZID:Europe/Berlin
BEGIN:STANDARD
DTSTART:20001029T040000
RRULE:FREQ=YEARLY;BYDAY=-1SU;BYMONTH=10
TZNAME:CET
TZOFFSETFROM:+0200
TZOFFSETTO:+0100
END:STANDARD
BEGIN:DAYLIGHT
DTSTART:20000326T030000
RRULE:FREQ=YEARLY;BYDAY=-1SU;BYMONTH=3
TZNAME:CEST
TZOFFSETFROM:+0100
TZOFFSETTO:+0200
END:DAYLIGHT
END:VTIMEZONE
BEGIN:VEVENT
UID:pretix-alsterfilm-mediatheke-400-0@tickets.massengeschmack.tv
DTSTART;TZID=Europe/Berlin:20260511T193000
DTEND;TZID=Europe/Berlin:20260511T203000
DESCRIPTION:Tickets: https://tickets.massengeschmack.tv/mediatheke-400/\nEi
 nlass: 11.05.2026 19:00\nVeranstalter: Alsterfilm GmbH
DTSTAMP:20260421T064910Z
LOCATION:SENFTÖPFCHEN-THEATER\, Große Neugasse 2-4\, 50667 Köln (Altstadt)
SUMMARY:Die Mediatheke #400
END:VEVENT
END:VCALENDAR
